BEGIN:VCALENDAR
VERSION:2.0
PRODID:-//ol norska - ECPv6.15.5//NONSGML v1.0//EN
CALSCALE:GREGORIAN
METHOD:PUBLISH
X-WR-CALNAME:ol norska
X-ORIGINAL-URL:https://www.olnorska.ch
X-WR-CALDESC:Veranstaltungen für ol norska
REFRESH-INTERVAL;VALUE=DURATION:PT1H
X-Robots-Tag:noindex
X-PUBLISHED-TTL:PT1H
BEGIN:VTIMEZONE
TZID:Europe/Paris
BEGIN:DAYLIGHT
TZOFFSETFROM:+0100
TZOFFSETTO:+0200
TZNAME:CEST
DTSTART:20260329T010000
END:DAYLIGHT
BEGIN:STANDARD
TZOFFSETFROM:+0200
TZOFFSETTO:+0100
TZNAME:CET
DTSTART:20261025T010000
END:STANDARD
END:VTIMEZONE
BEGIN:VEVENT
DTSTART;TZID=Europe/Paris:20260425T000000
DTEND;TZID=Europe/Paris:20260425T235959
DTSTAMP:20260424T151554
CREATED:20251231T110419Z
LAST-MODIFIED:20251231T110419Z
UID:8586-1777075200-1777161599@www.olnorska.ch
SUMMARY:5. Nationaler OL Mitteldistanz / Weltcup
DESCRIPTION:
URL:https://www.olnorska.ch/event/5-nationaler-ol-mitteldistanz-weltcup-2/
END:VEVENT
BEGIN:VEVENT
DTSTART;TZID=Europe/Paris:20260426T000000
DTEND;TZID=Europe/Paris:20260426T235959
DTSTAMP:20260424T151554
CREATED:20251231T110419Z
LAST-MODIFIED:20251231T110419Z
UID:8587-1777161600-1777247999@www.olnorska.ch
SUMMARY:6. Nationaler OL Sprint / Weltcup
DESCRIPTION:
URL:https://www.olnorska.ch/event/6-nationaler-ol-sprint-weltcup-2/
END:VEVENT
BEGIN:VEVENT
DTSTART;TZID=Europe/Paris:20260429T000000
DTEND;TZID=Europe/Paris:20260429T235959
DTSTAMP:20260424T151554
CREATED:20260131T094328Z
LAST-MODIFIED:20260131T094328Z
UID:8725-1777420800-1777507199@www.olnorska.ch
SUMMARY:Kartentraining
DESCRIPTION:
URL:https://www.olnorska.ch/event/kartentraining-15/
END:VEVENT
END:VCALENDAR